BEGIN:VCALENDAR
VERSION:2.0
METHOD:PUBLISH
X-WR-CALNAME;VALUE=TEXT:Agenda #6673
PRODID:-//Drupal iCal API//EN
BEGIN:VEVENT
SUMMARY: Réunion d'information et table ronde sur les métiers du transport et de la logistique
DTSTART: 20240614T070000
DTEND: 20240614T070000
DESCRIPTION: Réunion d'information et table ronde sur les métiers du transport et de la logistique
END:VEVENT
BEGIN:VEVENT
SUMMARY: Réunion d'information et table ronde sur les métiers du transport et de la logistique
DTSTART: 20240614T070000
DTEND: 20240614T070000
DESCRIPTION: Réunion d'information et table ronde sur les métiers du transport et de la logistique
END:VEVENT
BEGIN:VEVENT
SUMMARY: Réunion d'information et table ronde sur les métiers du transport et de la logistique
DTSTART: 20240614T070000
DTEND: 20240614T070000
DESCRIPTION: Réunion d'information et table ronde sur les métiers du transport et de la logistique
END:VEVENT
END:VCALENDAR
