BEGIN:VCALENDAR
VERSION:2.0
METHOD:PUBLISH
X-WR-CALNAME;VALUE=TEXT:Agenda #6671
PRODID:-//Drupal iCal API//EN
BEGIN:VEVENT
SUMMARY: Les tables rondes du transport
DTSTART: 20240612T070000
DTEND: 20240612T093000
DESCRIPTION: Dans le cadre de notre partenariat avec OTRE et les trois agences France Travail de St Vincent de Tyrosse, St Paul les Dax et Dax
END:VEVENT
BEGIN:VEVENT
SUMMARY: Les tables rondes du transport
DTSTART: 20240612T070000
DTEND: 20240612T093000
DESCRIPTION: Dans le cadre de notre partenariat avec OTRE et les trois agences France Travail de St Vincent de Tyrosse, St Paul les Dax et Dax
END:VEVENT
BEGIN:VEVENT
SUMMARY: Les tables rondes du transport
DTSTART: 20240612T070000
DTEND: 20240612T093000
DESCRIPTION: Dans le cadre de notre partenariat avec OTRE et les trois agences France Travail de St Vincent de Tyrosse, St Paul les Dax et Dax
END:VEVENT
END:VCALENDAR
