BEGIN:VCALENDAR
VERSION:2.0
METHOD:PUBLISH
X-WR-CALNAME;VALUE=TEXT:Agenda #6638
PRODID:-//Drupal iCal API//EN
BEGIN:VEVENT
SUMMARY: Jeudi 13 juin : Forum des métiers du Transport et de la Logistique à Choisy-le-Roi
DTSTART: 20240613T120000
DTEND: 20240613T150000
DESCRIPTION: Vous êtes demandeur d'emploi et vous recherchez un poste dans un secteur qui recrute?

Dans le cadre de la "Semaine Nationale Transport Logistique" organisée par&nbsp;France Travail&nbsp;du 10 au 14 juin, venez découvrir les métiers du&nbsp;transport et de la logistique en réalité virtuelle auprès de l'AFT Ile-de-France&nbsp;et les nombreuses opportunités auprès des entreprises du secteur !
END:VEVENT
END:VCALENDAR
