BEGIN:VCALENDAR
VERSION:2.0
METHOD:PUBLISH
X-WR-CALNAME;VALUE=TEXT:Agenda #6634
PRODID:-//Drupal iCal API//EN
BEGIN:VEVENT
SUMMARY: Forum Transport Logistique à Strasbourg
DTSTART: 20240611T110000
DTEND: 20240611T153000
DESCRIPTION: Organisé par France Travail, un RDV incontournable pour les demandeurs d'emploi intéressés par le secteur du Transport.
END:VEVENT
BEGIN:VEVENT
SUMMARY: Forum Transport Logistique à Strasbourg
DTSTART: 20240611T110000
DTEND: 20240611T153000
DESCRIPTION: Organisé par France Travail, un RDV incontournable pour les demandeurs d'emploi intéressés par le secteur du Transport.
END:VEVENT
END:VCALENDAR
