BEGIN:VCALENDAR
VERSION:2.0
METHOD:PUBLISH
X-WR-CALNAME;VALUE=TEXT:Agenda #6632
PRODID:-//Drupal iCal API//EN
BEGIN:VEVENT
SUMMARY: Mardi 11 juin : Forum des métiers du Transport et de la Logistique à Brétigny-sur-Orge
DTSTART: 20240611T070000
DTEND: 20240611T110000
DESCRIPTION: Vous êtes demandeur d'emploi et vous recherchez un poste dans un secteur qui recrute?

Dans le cadre de la "Semaine Nationale Transport Logistique" organisée par France Travail du 10 au 14 juin, venez découvrir les métiers du&nbsp;transport et de la logistique en réalité virtuelle auprès de l'AFT Ile-de-France&nbsp;et les nombreuses opportunités auprès des entreprises du secteur !
END:VEVENT
END:VCALENDAR
