BEGIN:VCALENDAR
VERSION:2.0
METHOD:PUBLISH
X-WR-CALNAME;VALUE=TEXT:Agenda #6629
PRODID:-//Drupal iCal API//EN
BEGIN:VEVENT
SUMMARY: Conférence sur les métiers du Transport et de la Logistique à destination des personnes en situation de handicap
DTSTART: 20240614T120000
DTEND: 20240614T120000
DESCRIPTION: Dans le cadre de la 3eme semaine Transport Logistique de France Travail, un webinaire sur les métiers du transport et de la logistique&nbsp;à destination des personnes en situation de handicap sera organisé en partenariat avec AGEFIPH, OPCO Mobilité, AFTRAL et AFT le Vendredi 14 juin prochain de 14h à 15h 30.

&nbsp;

Vous êtes intéressés, rapprochez vous de votre conseiller France Travail&nbsp;
END:VEVENT
BEGIN:VEVENT
SUMMARY: Conférence sur les métiers du Transport et de la Logistique à destination des personnes en situation de handicap
DTSTART: 20240614T120000
DTEND: 20240614T120000
DESCRIPTION: Dans le cadre de la 3eme semaine Transport Logistique de France Travail, un webinaire sur les métiers du transport et de la logistique&nbsp;à destination des personnes en situation de handicap sera organisé en partenariat avec AGEFIPH, OPCO Mobilité, AFTRAL et AFT le Vendredi 14 juin prochain de 14h à 15h 30.

&nbsp;

Vous êtes intéressés, rapprochez vous de votre conseiller France Travail&nbsp;
END:VEVENT
BEGIN:VEVENT
SUMMARY: Conférence sur les métiers du Transport et de la Logistique à destination des personnes en situation de handicap
DTSTART: 20240614T120000
DTEND: 20240614T120000
DESCRIPTION: Dans le cadre de la 3eme semaine Transport Logistique de France Travail, un webinaire sur les métiers du transport et de la logistique&nbsp;à destination des personnes en situation de handicap sera organisé en partenariat avec AGEFIPH, OPCO Mobilité, AFTRAL et AFT le Vendredi 14 juin prochain de 14h à 15h 30.

&nbsp;

Vous êtes intéressés, rapprochez vous de votre conseiller France Travail&nbsp;
END:VEVENT
END:VCALENDAR
