BEGIN:VCALENDAR
VERSION:2.0
METHOD:PUBLISH
X-WR-CALNAME;VALUE=TEXT:Agenda #6628
PRODID:-//Drupal iCal API//EN
BEGIN:VEVENT
SUMMARY: Conférence sur les métiers en apprentissage dans le Transport et la Logistique
DTSTART: 20240610T120000
DTEND: 20240610T120000
DESCRIPTION: Dans le cadre de la 3eme semaine Transport Logistique de France Travail, venez découvrir les métiers de la conduite (Marchandises, voyageurs, Ambulanciers) et le métier d'opérateur logistique en apprentissage avec le témoignage d'apprentis de chez KEOLIS SANTE OCCITANIE et de chez JARDEL SERVICES le Lundi 10 juin prochain de 14h à 16h en visio conférence.

L'OPCO Mobilité présentera le contrat d'apprentissage

Vous êtes intéressés, rapprochez vous de France Travail ou de votre Mission locale
END:VEVENT
BEGIN:VEVENT
SUMMARY: Conférence sur les métiers en apprentissage dans le Transport et la Logistique
DTSTART: 20240610T120000
DTEND: 20240610T120000
DESCRIPTION: Dans le cadre de la 3eme semaine Transport Logistique de France Travail, venez découvrir les métiers de la conduite (Marchandises, voyageurs, Ambulanciers) et le métier d'opérateur logistique en apprentissage avec le témoignage d'apprentis de chez KEOLIS SANTE OCCITANIE et de chez JARDEL SERVICES le Lundi 10 juin prochain de 14h à 16h en visio conférence.

L'OPCO Mobilité présentera le contrat d'apprentissage

Vous êtes intéressés, rapprochez vous de France Travail ou de votre Mission locale
END:VEVENT
BEGIN:VEVENT
SUMMARY: Conférence sur les métiers en apprentissage dans le Transport et la Logistique
DTSTART: 20240610T120000
DTEND: 20240610T120000
DESCRIPTION: Dans le cadre de la 3eme semaine Transport Logistique de France Travail, venez découvrir les métiers de la conduite (Marchandises, voyageurs, Ambulanciers) et le métier d'opérateur logistique en apprentissage avec le témoignage d'apprentis de chez KEOLIS SANTE OCCITANIE et de chez JARDEL SERVICES le Lundi 10 juin prochain de 14h à 16h en visio conférence.

L'OPCO Mobilité présentera le contrat d'apprentissage

Vous êtes intéressés, rapprochez vous de France Travail ou de votre Mission locale
END:VEVENT
END:VCALENDAR
