BEGIN:VCALENDAR
VERSION:2.0
METHOD:PUBLISH
X-WR-CALNAME;VALUE=TEXT:Agenda #6627
PRODID:-//Drupal iCal API//EN
BEGIN:VEVENT
SUMMARY: Montauban : Présentation des métiers Transport Logistique
DTSTART: 20250617T070000
DTEND: 20250617T070000
DESCRIPTION: Dans le cadre de la semaine Transport Logistique de France Travail, l'AFT Occitanie présentera les métiers de ce secteur le mardi 17 juin prochain de 9h à 12h à la salle des fêtes de Montauban&nbsp;

&nbsp;

Vous êtes intéressés, rapprochez vous de votre conseiller France Travail&nbsp;
END:VEVENT
BEGIN:VEVENT
SUMMARY: Montauban : Présentation des métiers Transport Logistique
DTSTART: 20250617T070000
DTEND: 20250617T070000
DESCRIPTION: Dans le cadre de la semaine Transport Logistique de France Travail, l'AFT Occitanie présentera les métiers de ce secteur le mardi 17 juin prochain de 9h à 12h à la salle des fêtes de Montauban&nbsp;

&nbsp;

Vous êtes intéressés, rapprochez vous de votre conseiller France Travail&nbsp;
END:VEVENT
BEGIN:VEVENT
SUMMARY: Montauban : Présentation des métiers Transport Logistique
DTSTART: 20250617T070000
DTEND: 20250617T070000
DESCRIPTION: Dans le cadre de la semaine Transport Logistique de France Travail, l'AFT Occitanie présentera les métiers de ce secteur le mardi 17 juin prochain de 9h à 12h à la salle des fêtes de Montauban&nbsp;

&nbsp;

Vous êtes intéressés, rapprochez vous de votre conseiller France Travail&nbsp;
END:VEVENT
END:VCALENDAR
