BEGIN:VCALENDAR
VERSION:2.0
METHOD:PUBLISH
X-WR-CALNAME;VALUE=TEXT:Agenda #6625
PRODID:-//Drupal iCal API//EN
BEGIN:VEVENT
SUMMARY: PERPIGNAN : Place de l'emploi Transport Logistique
DTSTART: 20240612T110000
DTEND: 20240612T110000
DESCRIPTION: Dans le cadre de la 3eme semaine Transport Logistique de France Travail, celle ci organise une Place de l'emploi le Mercredi 12 juin prochain de 13h à 17h devant le Palais des Congrès de Perpignan. L'AFT Occitanie présentera les métiers lies à ce secteur d'activité.&nbsp;

Vous êtes intéressés, rapprochez vous de votre conseille France Travail
END:VEVENT
BEGIN:VEVENT
SUMMARY: PERPIGNAN : Place de l'emploi Transport Logistique
DTSTART: 20240612T110000
DTEND: 20240612T110000
DESCRIPTION: Dans le cadre de la 3eme semaine Transport Logistique de France Travail, celle ci organise une Place de l'emploi le Mercredi 12 juin prochain de 13h à 17h devant le Palais des Congrès de Perpignan. L'AFT Occitanie présentera les métiers lies à ce secteur d'activité.&nbsp;

Vous êtes intéressés, rapprochez vous de votre conseille France Travail
END:VEVENT
BEGIN:VEVENT
SUMMARY: PERPIGNAN : Place de l'emploi Transport Logistique
DTSTART: 20240612T110000
DTEND: 20240612T110000
DESCRIPTION: Dans le cadre de la 3eme semaine Transport Logistique de France Travail, celle ci organise une Place de l'emploi le Mercredi 12 juin prochain de 13h à 17h devant le Palais des Congrès de Perpignan. L'AFT Occitanie présentera les métiers lies à ce secteur d'activité.&nbsp;

Vous êtes intéressés, rapprochez vous de votre conseille France Travail
END:VEVENT
END:VCALENDAR
