BEGIN:VCALENDAR
VERSION:2.0
METHOD:PUBLISH
X-WR-CALNAME;VALUE=TEXT:Agenda #6573
PRODID:-//Drupal iCal API//EN
BEGIN:VEVENT
SUMMARY: Visite/découverte des Transports VECATEL à Valentigney
DTSTART: 20240611T063000
DTEND: 20240611T083000
DESCRIPTION: A l'occasion de la Semaine du Transport et de la Logistique l'entreprise&nbsp;VECATEL ouvre ses portes pour une visite du site et des métiers qui s'y pratiquent.
END:VEVENT
END:VCALENDAR
