BEGIN:VCALENDAR
VERSION:2.0
METHOD:PUBLISH
X-WR-CALNAME;VALUE=TEXT:Agenda #6572
PRODID:-//Drupal iCal API//EN
BEGIN:VEVENT
SUMMARY: Semaine nationale transport - logistique de France Travail: Visite de l'entreprise Petit Forestier Group, le 14 juin 2024 matin
DTSTART: 20240614T070000
DTEND: 20240614T100000
DESCRIPTION: Dans le cadre de la semaine nationale transport - logistique de France Travail L'entreprise Petit Forestier Group&nbsp;a accepté&nbsp;l'invitation de l'AFT Transport &amp; Logistique&nbsp;d'ouvrir les portes de sa structure pour les conseillers de France Travail&nbsp;le 14 juin dans la matinée&nbsp;!
END:VEVENT
END:VCALENDAR
