BEGIN:VCALENDAR
VERSION:2.0
METHOD:PUBLISH
X-WR-CALNAME;VALUE=TEXT:Agenda #6567
PRODID:-//Drupal iCal API//EN
BEGIN:VEVENT
SUMMARY: Atelier découverte Transport-Logistique à Gray
DTSTART: 20240618T070000
DTEND: 20240618T090000
DESCRIPTION: Êtes-vous prêts à plonger dans l'univers captivant des Métiers du Transport et de la Logistique d'une manière innovante ? L'AFT vous initiera à ces Métiers grâce à des exercices ludiques et à l'utilisation de lunettes virtuelles.
END:VEVENT
END:VCALENDAR
