BEGIN:VCALENDAR
VERSION:2.0
METHOD:PUBLISH
X-WR-CALNAME;VALUE=TEXT:Agenda #6565
PRODID:-//Drupal iCal API//EN
BEGIN:VEVENT
SUMMARY: Forum Emploi Transport et Logistique le jeudi 13 juin à Tremblay-en-France
DTSTART: 20240613T070000
DTEND: 20240613T110000
DESCRIPTION: Dans le cadre de la semaine des métiers du transport et de la logistique, France Travail et&nbsp;Paris CDG Alliance&nbsp;organisent un&nbsp;forum EMPLOI Transport et logistique, jeudi 13 juin,&nbsp;dans les locaux de Paris CDG Alliance&nbsp;à&nbsp;Tremblay-en-France.Venez découvrir&nbsp;les métiers&nbsp;🚍🚛🛠🚑&nbsp;📦en réalité virtuelle !
END:VEVENT
END:VCALENDAR
