BEGIN:VCALENDAR
VERSION:2.0
METHOD:PUBLISH
X-WR-CALNAME;VALUE=TEXT:Agenda #6564
PRODID:-//Drupal iCal API//EN
BEGIN:VEVENT
SUMMARY: Participez à l'Escape Game Transport au sein de l'agence France Travail de Marseille Belle de Mai
DTSTART: 20240610T113000
DTEND: 20240610T140000
DESCRIPTION: Venez découvrir le secteur du transport de façon ludique en participant à un escape game le lundi 10 juin à Marseille.
END:VEVENT
END:VCALENDAR
