BEGIN:VCALENDAR
VERSION:2.0
METHOD:PUBLISH
X-WR-CALNAME;VALUE=TEXT:Agenda #6561
PRODID:-//Drupal iCal API//EN
BEGIN:VEVENT
SUMMARY: Le simulateur de conduite de l'AFT sur les routes de Corse lors de la semaine transport-logistique de France Travail !
DTSTART: 20240618T070000
DTEND: 20240620T140000
DESCRIPTION: Le secteur du transport recrute en Corse !

Venez vous essayer à la conduite de poids lourds et tout découvrir de ce secteur&nbsp;du 18 au 20 juin.
END:VEVENT
END:VCALENDAR
