BEGIN:VCALENDAR
VERSION:2.0
METHOD:PUBLISH
X-WR-CALNAME;VALUE=TEXT:Agenda #6559
PRODID:-//Drupal iCal API//EN
BEGIN:VEVENT
SUMMARY: Atelier sectoriel spécial Transport de Marchandises à Besançon
DTSTART: 20240614T070000
DTEND: 20240614T100000
DESCRIPTION: Dans le cadre de la Semaine du Transport, France Travail met en place un parcours vous permettant de vous informer sur les&nbsp;métiers &nbsp;du transport de marchandises, valider votre projet professionnel et rentrer en formation.&nbsp;
&nbsp;
END:VEVENT
END:VCALENDAR
