BEGIN:VCALENDAR
VERSION:2.0
METHOD:PUBLISH
X-WR-CALNAME;VALUE=TEXT:Agenda #6556
PRODID:-//Drupal iCal API//EN
BEGIN:VEVENT
SUMMARY: Découverte du transport routier de voyageurs aux côtés du Groupe ACE lors de la semaine Transport-Logistique de France Travail
DTSTART: 20240614T120000
DTEND: 20240614T150000
DESCRIPTION: L'AFT TRANSPORT &amp; LOGISTIQUE PACA Corse sera présente aux côtés du groupe ACE à Bollène le vendredi 14 juin afin de faire découvrir le transport routier de voyageurs et ses métiers qui recrutent !
END:VEVENT
END:VCALENDAR
