BEGIN:VCALENDAR
VERSION:2.0
METHOD:PUBLISH
X-WR-CALNAME;VALUE=TEXT:Agenda #6554
PRODID:-//Drupal iCal API//EN
BEGIN:VEVENT
SUMMARY: Visite AU FEMININ des Transports BOUQUEROD Alimentaire à Port-sur-Saône
DTSTART: 20240612T080000
DTEND: 20240612T090000
DESCRIPTION: Dans le cadre de la Semaine&nbsp;du transport et de la logistique&nbsp;2024, des parcours de Découverte au féminin sont organisés en Haute-Saône afin de découvrir un secteur d'activité et des métiers qui recrutent.
Et quoi de mieux qu'une visite d'entreprise pour en savoir plus et casser les clichés&nbsp;?
END:VEVENT
END:VCALENDAR
