BEGIN:VCALENDAR
VERSION:2.0
METHOD:PUBLISH
X-WR-CALNAME;VALUE=TEXT:Agenda #6552
PRODID:-//Drupal iCal API//EN
BEGIN:VEVENT
SUMMARY: Acculturation aux métiers du Transport &amp; de la Logistique
DTSTART: 20240613T113000
DTEND: 20240613T143000
DESCRIPTION: Afin de promouvoir au mieux les métiers du Transport et de la Logistique, une acculturation des conseillers France Travail, CAP Emploi du Nord Isère, est proposée le jeudi 13 juin 2024, à Saint Quentin Fallavier
END:VEVENT
END:VCALENDAR
