BEGIN:VCALENDAR
VERSION:2.0
METHOD:PUBLISH
X-WR-CALNAME;VALUE=TEXT:Agenda #6551
PRODID:-//Drupal iCal API//EN
BEGIN:VEVENT
SUMMARY: Atelier Transport Ludique
DTSTART: 20240612T063000
DTEND: 20240612T093015
DESCRIPTION: L'atelier Transport de France Travail Pierrelatte, décentralisé à Donzère, l'AFT et Promotrans partenaire le mercredi 12 juin 2024
END:VEVENT
END:VCALENDAR
