BEGIN:VCALENDAR
VERSION:2.0
METHOD:PUBLISH
X-WR-CALNAME;VALUE=TEXT:Agenda #6549
PRODID:-//Drupal iCal API//EN
BEGIN:VEVENT
SUMMARY: Les métiers du Transport et de la Logistique au Féminin
DTSTART: 20240610T113000
DTEND: 20240610T143000
DESCRIPTION: L'AFT et l'entreprise Alexis Déménagement, partenaires pour animer un atelier Transport &amp; Logistique dédié aux femmes à la Tour du Pin, lundi 10 juin 2024
END:VEVENT
END:VCALENDAR
