BEGIN:VCALENDAR
VERSION:2.0
METHOD:PUBLISH
X-WR-CALNAME;VALUE=TEXT:Agenda #6547
PRODID:-//Drupal iCal API//EN
BEGIN:VEVENT
SUMMARY: Atelier découverte Transport-Logistique au féminin à Vesoul
DTSTART: 20240610T123000
DTEND: 20240610T140000
DESCRIPTION: L'AFT et l'association&nbsp;FETE Femmes Egalité Emploi vous proposent de participer à un parcours de découverte au Féminin des métiers du transport et de la logistique en Haute-Saône !

Conductrice en transport de marchandises, de voyageurs, organisatrice de transport, affréteuse, agente de transit, préparatrice de commandes, cheffe de quai, gestionnaire de stocks, responsable d'entrepôt...

Le secteur du transport et de la logistique recrute aussi des femmes, alors pourquoi pas vous ?

&nbsp;
END:VEVENT
END:VCALENDAR
