BEGIN:VCALENDAR
VERSION:2.0
METHOD:PUBLISH
X-WR-CALNAME;VALUE=TEXT:Agenda #6545
PRODID:-//Drupal iCal API//EN
BEGIN:VEVENT
SUMMARY: Semaine Transport et Logistique Saint Junien - ESCAPE GAME LOGISTIQUE
DTSTART: 20240613T073000
DTEND: 20240613T093000
DESCRIPTION: Venez découvrir les métiers de la Logistique avec l'Escape Game de l'AFT Transport Logistique&nbsp;
END:VEVENT
END:VCALENDAR
