BEGIN:VCALENDAR
VERSION:2.0
METHOD:PUBLISH
X-WR-CALNAME;VALUE=TEXT:Agenda #6544
PRODID:-//Drupal iCal API//EN
BEGIN:VEVENT
SUMMARY: Semaine Transport et Logistique Pierre Buffière - Escape Game découverte de la logistique
DTSTART: 20240611T070000
DTEND: 20240611T080000
DESCRIPTION: L'Agence France Travail de&nbsp;St Yrieix se délocalise à Pierre Buffière et vous propose un moment ludique avec l'Escape game de l'AFT transport Logistique&nbsp;
END:VEVENT
END:VCALENDAR
