BEGIN:VCALENDAR
VERSION:2.0
METHOD:PUBLISH
X-WR-CALNAME;VALUE=TEXT:Agenda #6543
PRODID:-//Drupal iCal API//EN
BEGIN:VEVENT
SUMMARY: Atelier sectoriel spécial Transport de Voyageurs à Besançon
DTSTART: 20240610T070000
DTEND: 20240610T100000
DESCRIPTION: Dans le cadre de la Semaine du Transport, France Travail met en place un parcours vous permettant de vous informer sur les métiers du transport de personnes, valider votre projet professionnel et rentrer en formation.&nbsp;
Transport urbain, interurbain, transport scolaire..&nbsp;un secteur qui recrute&nbsp;!
END:VEVENT
END:VCALENDAR
