BEGIN:VCALENDAR
VERSION:2.0
METHOD:PUBLISH
X-WR-CALNAME;VALUE=TEXT:Agenda #6541
PRODID:-//Drupal iCal API//EN
BEGIN:VEVENT
SUMMARY: Semaine Transport Logistique LIMOGES - Porte Ouverte Limousin Loctrans
DTSTART: 20240607T070000
DTEND: 20240607T090000
DESCRIPTION: Venez découvrir le nouveau site de Limousin Loctrans.

L'occasion de rencontrer des professionnels du transport et de la logistique !&nbsp;
END:VEVENT
BEGIN:VEVENT
SUMMARY: Semaine Transport Logistique LIMOGES - Porte Ouverte Limousin Loctrans
DTSTART: 20240607T070000
DTEND: 20240607T090000
DESCRIPTION: Venez découvrir le nouveau site de Limousin Loctrans.

L'occasion de rencontrer des professionnels du transport et de la logistique !&nbsp;
END:VEVENT
END:VCALENDAR
