BEGIN:VCALENDAR
VERSION:2.0
METHOD:PUBLISH
X-WR-CALNAME;VALUE=TEXT:Agenda #6539
PRODID:-//Drupal iCal API//EN
BEGIN:VEVENT
SUMMARY: Semaine Transport Logistique Châtellerault - Quizz Découverte des métiers
DTSTART: 20240610T120000
DTEND: 20240610T140000
DESCRIPTION: Quizz des métiers du Transport et de la logistique

Venez vous informer et découvrir les métiers du Transport et de la Logistique de manière ludique.
END:VEVENT
END:VCALENDAR
