BEGIN:VCALENDAR
VERSION:2.0
METHOD:PUBLISH
X-WR-CALNAME;VALUE=TEXT:Agenda #6535
PRODID:-//Drupal iCal API//EN
BEGIN:VEVENT
SUMMARY: Forum "Mesdames,  Ne restez par sur la Touche"  le vendredi 07 Juin à Clermont-Ferrand
DTSTART: 20240607T070000
DTEND: 20240607T103000
DESCRIPTION: Dans le cadre de la semaine des métiers du transport et de la logistique, France Travail avec ses partenaires organisent une matinale à destination des femmes pour leur faire découvrir les métiers du transport, du bâtiment, des travaux publics, du recyclage et de l'industrie.
END:VEVENT
BEGIN:VEVENT
SUMMARY: Forum "Mesdames,  Ne restez par sur la Touche"  le vendredi 07 Juin à Clermont-Ferrand
DTSTART: 20240607T070000
DTEND: 20240607T103000
DESCRIPTION: Dans le cadre de la semaine des métiers du transport et de la logistique, France Travail avec ses partenaires organisent une matinale à destination des femmes pour leur faire découvrir les métiers du transport, du bâtiment, des travaux publics, du recyclage et de l'industrie.
END:VEVENT
END:VCALENDAR
