BEGIN:VCALENDAR
VERSION:2.0
METHOD:PUBLISH
X-WR-CALNAME;VALUE=TEXT:Agenda #6534
PRODID:-//Drupal iCal API//EN
BEGIN:VEVENT
SUMMARY: Journée Handi-Transport à Saint-Quentin-Fallavier (38)
DTSTART: 20240610T070000
DTEND: 20240610T143000
DESCRIPTION: Parce qu'emploi et carrière en Transport &amp; Logistique&nbsp;ET être en situation de handicap, ce n'est pas incompatible : venez découvrir les différentes opportunités en termes de métiers, formations et emploi. Et surtout les adaptations possibles sur les postes de conduite !
END:VEVENT
BEGIN:VEVENT
SUMMARY: Journée Handi-Transport à Saint-Quentin-Fallavier (38)
DTSTART: 20240610T070000
DTEND: 20240610T143000
DESCRIPTION: Parce qu'emploi et carrière en Transport &amp; Logistique&nbsp;ET être en situation de handicap, ce n'est pas incompatible : venez découvrir les différentes opportunités en termes de métiers, formations et emploi. Et surtout les adaptations possibles sur les postes de conduite !
END:VEVENT
END:VCALENDAR
