BEGIN:VCALENDAR
VERSION:2.0
METHOD:PUBLISH
X-WR-CALNAME;VALUE=TEXT:Agenda #6531
PRODID:-//Drupal iCal API//EN
BEGIN:VEVENT
SUMMARY: Forum Emploi Formation TRANSPORT &amp; LOGISTIQUE - 11 juin 2024 à Rosny-Sous-Bois
DTSTART: 20240611T080000
DTEND: 20240611T150000
DESCRIPTION: Dans&nbsp;le cadre de la semaine transport et logistique de France Travail, l'AFT Transport et Logistique sera présente au Forum emploi - formation Transport Logistique&nbsp;

à l'espace YOOKAN Centre Commercial WESTFIELD Rosny 2 à&nbsp;Rosny-Sous-Bois, le&nbsp;11 juin 2024
END:VEVENT
END:VCALENDAR
