BEGIN:VCALENDAR
VERSION:2.0
METHOD:PUBLISH
X-WR-CALNAME;VALUE=TEXT:Agenda #6530
PRODID:-//Drupal iCal API//EN
BEGIN:VEVENT
SUMMARY: Semaine Transport Logistique - Fougères (35)
DTSTART: 20240611T073000
DTEND: 20240611T100000
DESCRIPTION: Dans de le cadre de la semaine transport et logistique de France Travail, l'AFT Transport et Logistique sera présente à l'Agence de Fougères ce Mardi 11&nbsp;Juin 2024 de 9h30 à 12h00
END:VEVENT
BEGIN:VEVENT
SUMMARY: Semaine Transport Logistique - Fougères (35)
DTSTART: 20240611T073000
DTEND: 20240611T100000
DESCRIPTION: Dans de le cadre de la semaine transport et logistique de France Travail, l'AFT Transport et Logistique sera présente à l'Agence de Fougères ce Mardi 11&nbsp;Juin 2024 de 9h30 à 12h00
END:VEVENT
BEGIN:VEVENT
SUMMARY: Semaine Transport Logistique - Fougères (35)
DTSTART: 20240611T073000
DTEND: 20240611T100000
DESCRIPTION: Dans de le cadre de la semaine transport et logistique de France Travail, l'AFT Transport et Logistique sera présente à l'Agence de Fougères ce Mardi 11&nbsp;Juin 2024 de 9h30 à 12h00
END:VEVENT
END:VCALENDAR
