BEGIN:VCALENDAR
VERSION:2.0
METHOD:PUBLISH
X-WR-CALNAME;VALUE=TEXT:Agenda #6528
PRODID:-//Drupal iCal API//EN
BEGIN:VEVENT
SUMMARY: Semaine Transport Logistique
DTSTART: 20240604T073000
DTEND: 20240604T100000
DESCRIPTION: En amont de la la semaine transport et logistique de France&nbsp;Travail, l'AFT Transport et Logistique sera présente à l'Agence de Ploërmel ce mardi 4&nbsp;Juin 2024 de 9h30 à 12h00
END:VEVENT
BEGIN:VEVENT
SUMMARY: Semaine Transport Logistique
DTSTART: 20240604T073000
DTEND: 20240604T100000
DESCRIPTION: En amont de la la semaine transport et logistique de France&nbsp;Travail, l'AFT Transport et Logistique sera présente à l'Agence de Ploërmel ce mardi 4&nbsp;Juin 2024 de 9h30 à 12h00
END:VEVENT
BEGIN:VEVENT
SUMMARY: Semaine Transport Logistique
DTSTART: 20240604T073000
DTEND: 20240604T100000
DESCRIPTION: En amont de la la semaine transport et logistique de France&nbsp;Travail, l'AFT Transport et Logistique sera présente à l'Agence de Ploërmel ce mardi 4&nbsp;Juin 2024 de 9h30 à 12h00
END:VEVENT
END:VCALENDAR
