BEGIN:VCALENDAR
VERSION:2.0
METHOD:PUBLISH
X-WR-CALNAME;VALUE=TEXT:Agenda #6526
PRODID:-//Drupal iCal API//EN
BEGIN:VEVENT
SUMMARY: STEF Transport Mâcon vous ouvre ses portes !
DTSTART: 20240611T080000
DTEND: 20240611T153000
DESCRIPTION: Dans le cadre de la Semaine des métiers du Transport et de la Logistique, l'entreprise STEF Transport Mâcon ouvre ses portes.&nbsp;

Intéressé(e) par les métiers du transport et de la logistique ? Ne ratez-pas l'opportunité !
END:VEVENT
END:VCALENDAR
