BEGIN:VCALENDAR
VERSION:2.0
METHOD:PUBLISH
X-WR-CALNAME;VALUE=TEXT:Agenda #6523
PRODID:-//Drupal iCal API//EN
BEGIN:VEVENT
SUMMARY: Venez découvrir des métiers qui recrutent dans le 05 lors du Forum Avenir de Gap
DTSTART: 20240614T130000
DTEND: 20240614T180000
DESCRIPTION: Transition Pro vous donne rendez-vous le vendredi 14 juin de 15h à 20h afin de découvrir des métiers porteurs dans les Hautes-Alpes et rencontrer des entreprises qui recrutent !
END:VEVENT
END:VCALENDAR
