BEGIN:VCALENDAR
VERSION:2.0
METHOD:PUBLISH
X-WR-CALNAME;VALUE=TEXT:Agenda #6310
PRODID:-//Drupal iCal API//EN
BEGIN:VEVENT
SUMMARY: Nimes : Informations métiers transport voyageurs
DTSTART: 20250325T080000
DTEND: 20250325T080000
DESCRIPTION: Information Métier organisée avec la COOP Voyageurs et ses adhérents dans les locaux des Autocars GINHOUX&nbsp;le Mardi 25&nbsp;mars de 9h à 12h.

Moment d'échanges avec l'organisme de formation AFTRAL et l'AFT sur la formation et le métier

Informations sur les modes de financement, validation projet professionnel avec France travail&nbsp;
END:VEVENT
BEGIN:VEVENT
SUMMARY: Nimes : Informations métiers transport voyageurs
DTSTART: 20250325T080000
DTEND: 20250325T080000
DESCRIPTION: Information Métier organisée avec la COOP Voyageurs et ses adhérents dans les locaux des Autocars GINHOUX&nbsp;le Mardi 25&nbsp;mars de 9h à 12h.

Moment d'échanges avec l'organisme de formation AFTRAL et l'AFT sur la formation et le métier

Informations sur les modes de financement, validation projet professionnel avec France travail&nbsp;
END:VEVENT
BEGIN:VEVENT
SUMMARY: Nimes : Informations métiers transport voyageurs
DTSTART: 20250325T080000
DTEND: 20250325T080000
DESCRIPTION: Information Métier organisée avec la COOP Voyageurs et ses adhérents dans les locaux des Autocars GINHOUX&nbsp;le Mardi 25&nbsp;mars de 9h à 12h.

Moment d'échanges avec l'organisme de formation AFTRAL et l'AFT sur la formation et le métier

Informations sur les modes de financement, validation projet professionnel avec France travail&nbsp;
END:VEVENT
END:VCALENDAR
