BEGIN:VCALENDAR
VERSION:2.0
METHOD:PUBLISH
X-WR-CALNAME;VALUE=TEXT:Agenda #6232
PRODID:-//Drupal iCal API//EN
BEGIN:VEVENT
SUMMARY: Toulouse : Les jeunes de l'Ecole Régionale de la 2eme Chance découvrent les métiers du secteur Transport Logistique
DTSTART: 20260402T120000
DTEND: 20260402T120000
DESCRIPTION: L'AFT Occitanie présentera les métiers du transport et de la logistique aux jeunes de l'Ecole Régionale de la 2eme Chance le jeudi 2 avril&nbsp;prochain de 14h&nbsp;à 16h.&nbsp;
END:VEVENT
BEGIN:VEVENT
SUMMARY: Toulouse : Les jeunes de l'Ecole Régionale de la 2eme Chance découvrent les métiers du secteur Transport Logistique
DTSTART: 20260402T120000
DTEND: 20260402T120000
DESCRIPTION: L'AFT Occitanie présentera les métiers du transport et de la logistique aux jeunes de l'Ecole Régionale de la 2eme Chance le jeudi 2 avril&nbsp;prochain de 14h&nbsp;à 16h.&nbsp;
END:VEVENT
BEGIN:VEVENT
SUMMARY: Toulouse : Les jeunes de l'Ecole Régionale de la 2eme Chance découvrent les métiers du secteur Transport Logistique
DTSTART: 20260402T120000
DTEND: 20260402T120000
DESCRIPTION: L'AFT Occitanie présentera les métiers du transport et de la logistique aux jeunes de l'Ecole Régionale de la 2eme Chance le jeudi 2 avril&nbsp;prochain de 14h&nbsp;à 16h.&nbsp;
END:VEVENT
BEGIN:VEVENT
SUMMARY: Toulouse : Les jeunes de l'Ecole Régionale de la 2eme Chance découvrent les métiers du secteur Transport Logistique
DTSTART: 20260402T120000
DTEND: 20260402T120000
DESCRIPTION: L'AFT Occitanie présentera les métiers du transport et de la logistique aux jeunes de l'Ecole Régionale de la 2eme Chance le jeudi 2 avril&nbsp;prochain de 14h&nbsp;à 16h.&nbsp;
END:VEVENT
END:VCALENDAR
