BEGIN:VCALENDAR
VERSION:2.0
METHOD:PUBLISH
X-WR-CALNAME;VALUE=TEXT:Agenda #586
PRODID:-//Drupal iCal API//EN
BEGIN:VEVENT
SUMMARY: Comité locaux de suivi
DTSTART: 20151127T080000
DTEND: 20151127T180000
DESCRIPTION: Intervention sur l'image des métiers lors de la réunion des Comités Locaux de Suivi le vendredi 27 novembre 2015 à 9 heures
END:VEVENT
END:VCALENDAR
