BEGIN:VCALENDAR
VERSION:2.0
METHOD:PUBLISH
X-WR-CALNAME;VALUE=TEXT:Agenda #584
PRODID:-//Drupal iCal API//EN
BEGIN:VEVENT
SUMMARY: Villemur sur Tarn : Présentation des métiers de la logistique et du transport aux collègiens
DTSTART: 20250310T140000
DTEND: 20250309T230000
DESCRIPTION: L'AFT présentera les métiers du Transport et de la Logistique le Lundi 10 mars&nbsp;prochain de 15h à 17h aux élèves de 3eme SEGPA&nbsp;du Collège Albert Camus&nbsp;de Villemur sur Tarn.&nbsp;&nbsp;
END:VEVENT
BEGIN:VEVENT
SUMMARY: Villemur sur Tarn : Présentation des métiers de la logistique et du transport aux collègiens
DTSTART: 20250310T140000
DTEND: 20250309T230000
DESCRIPTION: L'AFT présentera les métiers du Transport et de la Logistique le Lundi 10 mars&nbsp;prochain de 15h à 17h aux élèves de 3eme SEGPA&nbsp;du Collège Albert Camus&nbsp;de Villemur sur Tarn.&nbsp;&nbsp;
END:VEVENT
END:VCALENDAR
