BEGIN:VCALENDAR
VERSION:2.0
METHOD:PUBLISH
X-WR-CALNAME;VALUE=TEXT:Agenda #583
PRODID:-//Drupal iCal API//EN
BEGIN:VEVENT
SUMMARY: SEFI - TL novembre 2015
DTSTART: 20171112T083000
DTEND: 20171125T180000
DESCRIPTION: Le SEFI-TL - Service Emploi Formation- Information est ouvert à tout public (demandeurs d'emploi, collégiens, lycéens, étudiants, militaires, salariés en reconversion) et informe sur les métiers et les formations en Transport-Logistique
END:VEVENT
BEGIN:VEVENT
SUMMARY: SEFI - TL novembre 2015
DTSTART: 20171112T083000
DTEND: 20171125T180000
DESCRIPTION: Le SEFI-TL - Service Emploi Formation- Information est ouvert à tout public (demandeurs d'emploi, collégiens, lycéens, étudiants, militaires, salariés en reconversion) et informe sur les métiers et les formations en Transport-Logistique
END:VEVENT
END:VCALENDAR
