BEGIN:VCALENDAR
VERSION:2.0
METHOD:PUBLISH
X-WR-CALNAME;VALUE=TEXT:Agenda #5785
PRODID:-//Drupal iCal API//EN
BEGIN:VEVENT
SUMMARY: Découvrez si le secteur du Transport et de la Logistique est fait pour vous
DTSTART: 20230607T070000
DTEND: 20230607T100000
DESCRIPTION: Dans le cadre de la semaine Transport Logistique de Pôle Emploi qui se déroulera&nbsp;du 5 au 9 juin, l'AFT Transport Logistique interviendra auprès de l'agence Pôle Emploi de Loudun le mercredi 7&nbsp;juin.
END:VEVENT
END:VCALENDAR
