BEGIN:VCALENDAR
VERSION:2.0
METHOD:PUBLISH
X-WR-CALNAME;VALUE=TEXT:Agenda #5777
PRODID:-//Drupal iCal API//EN
BEGIN:VEVENT
SUMMARY: Découvrez une entreprise de transport de marchandises dans la Vienne
DTSTART: 20230608T123000
DTEND: 20230608T140000
DESCRIPTION: Vous souhaitez découvrir les métiers du transport et l'environnement de travail ? Dans le cadre de la semaine Transport et Logistique organisée par Pôle Emploi, l'AFT s'associe pour proposer des visites d'entreprises.
END:VEVENT
BEGIN:VEVENT
SUMMARY: Découvrez une entreprise de transport de marchandises dans la Vienne
DTSTART: 20230608T123000
DTEND: 20230608T140000
DESCRIPTION: Vous souhaitez découvrir les métiers du transport et l'environnement de travail ? Dans le cadre de la semaine Transport et Logistique organisée par Pôle Emploi, l'AFT s'associe pour proposer des visites d'entreprises.
END:VEVENT
BEGIN:VEVENT
SUMMARY: Découvrez une entreprise de transport de marchandises dans la Vienne
DTSTART: 20230608T123000
DTEND: 20230608T140000
DESCRIPTION: Vous souhaitez découvrir les métiers du transport et l'environnement de travail ? Dans le cadre de la semaine Transport et Logistique organisée par Pôle Emploi, l'AFT s'associe pour proposer des visites d'entreprises.
END:VEVENT
END:VCALENDAR
