BEGIN:VCALENDAR
VERSION:2.0
METHOD:PUBLISH
X-WR-CALNAME;VALUE=TEXT:Agenda #5774
PRODID:-//Drupal iCal API//EN
BEGIN:VEVENT
SUMMARY: Découvrez si le secteur du Transport et de la Logistique est fait pour vous
DTSTART: 20230606T070000
DTEND: 20230606T100000
DESCRIPTION: &nbsp;

Dans le cadre de la semaine Transport Logistique de Pôle Emploi qui se déroulera&nbsp;du 5 au 9 juin, l'AFT Transport Logistique interviendra à&nbsp;l'agence Pôle Emploi de Châtellerault&nbsp;le mardi&nbsp;6&nbsp;juin.

&nbsp;
END:VEVENT
END:VCALENDAR
