BEGIN:VCALENDAR
VERSION:2.0
METHOD:PUBLISH
X-WR-CALNAME;VALUE=TEXT:Agenda #5766
PRODID:-//Drupal iCal API//EN
BEGIN:VEVENT
SUMMARY: Montpellier : Venez trouver votre voie
DTSTART: 20240613T110000
DTEND: 20240613T110000
DESCRIPTION: Profitez de la semaine Transport Logistique de FRANCE TRAVAIL pour venir découvrir sur le parvis de la Mairie de Montpellier le&nbsp;Jeudi 13&nbsp;&nbsp;juin prochain de 13h&nbsp;à 17h30&nbsp;un secteur qui offre de nombreuses opportunités de métiers, de formations et de postes à pourvoir accessibles à toutes les personnes dans le domaine du Transport de Voyageurs et de Marchandises.

L'AFT Occitanie sera présente sur cet évènement pour vous présenter les métiers du Transport de Voyageurs et de marchandises&nbsp;

Vous êtes intéressés, Rapprochez vous de votre Conseiller France Travail
&nbsp;
END:VEVENT
BEGIN:VEVENT
SUMMARY: Montpellier : Venez trouver votre voie
DTSTART: 20240613T110000
DTEND: 20240613T110000
DESCRIPTION: Profitez de la semaine Transport Logistique de FRANCE TRAVAIL pour venir découvrir sur le parvis de la Mairie de Montpellier le&nbsp;Jeudi 13&nbsp;&nbsp;juin prochain de 13h&nbsp;à 17h30&nbsp;un secteur qui offre de nombreuses opportunités de métiers, de formations et de postes à pourvoir accessibles à toutes les personnes dans le domaine du Transport de Voyageurs et de Marchandises.

L'AFT Occitanie sera présente sur cet évènement pour vous présenter les métiers du Transport de Voyageurs et de marchandises&nbsp;

Vous êtes intéressés, Rapprochez vous de votre Conseiller France Travail
&nbsp;
END:VEVENT
BEGIN:VEVENT
SUMMARY: Montpellier : Venez trouver votre voie
DTSTART: 20240613T110000
DTEND: 20240613T110000
DESCRIPTION: Profitez de la semaine Transport Logistique de FRANCE TRAVAIL pour venir découvrir sur le parvis de la Mairie de Montpellier le&nbsp;Jeudi 13&nbsp;&nbsp;juin prochain de 13h&nbsp;à 17h30&nbsp;un secteur qui offre de nombreuses opportunités de métiers, de formations et de postes à pourvoir accessibles à toutes les personnes dans le domaine du Transport de Voyageurs et de Marchandises.

L'AFT Occitanie sera présente sur cet évènement pour vous présenter les métiers du Transport de Voyageurs et de marchandises&nbsp;

Vous êtes intéressés, Rapprochez vous de votre Conseiller France Travail
&nbsp;
END:VEVENT
END:VCALENDAR
