BEGIN:VCALENDAR
VERSION:2.0
METHOD:PUBLISH
X-WR-CALNAME;VALUE=TEXT:Agenda #5757
PRODID:-//Drupal iCal API//EN
BEGIN:VEVENT
SUMMARY: Découvrez le secteur du Transport et de la Logistique à Poitiers
DTSTART: 20230605T070000
DTEND: 20230605T103000
DESCRIPTION: Dans le cadre de la semaine Transport Logistique de Pôle Emploi qui se déroulera&nbsp;du 5 au 9 juin, l'AFT Transport Logistique interviendra sur l'agence Pôle Emploi de Poitiers Grand Large le lundi 5&nbsp;juin de 9h00 à 12h00.
END:VEVENT
END:VCALENDAR
