BEGIN:VCALENDAR
VERSION:2.0
METHOD:PUBLISH
X-WR-CALNAME;VALUE=TEXT:Agenda #5756
PRODID:-//Drupal iCal API//EN
BEGIN:VEVENT
SUMMARY: Occitanie : La semaine du transport et de la logistique : L'Opérateur logistique
DTSTART: 20230607T120000
DTEND: 20230607T120000
DESCRIPTION: L'AFT Occitanie en partenariat avec Pôle emploi organisent le Mercredi 7 juin prochain de 14h à 15h un webinaire sur le métier d'Opérateur Logistique.

Un opérateur logistique de chez la STEF Logistique (82) et un opérateur logistique de chez Express Catalan (66) se prêteront au jeu en dialoguant en visio conférence pendant une heure devant des demandeurs d'emploi connectés et transmettront leur passion en présentant leur métier et leur parcours professionnel.&nbsp;

&nbsp;

Vous êtes intéressés. Rapprochez vous de votre conseiller Pôle emploi
END:VEVENT
BEGIN:VEVENT
SUMMARY: Occitanie : La semaine du transport et de la logistique : L'Opérateur logistique
DTSTART: 20230607T120000
DTEND: 20230607T120000
DESCRIPTION: L'AFT Occitanie en partenariat avec Pôle emploi organisent le Mercredi 7 juin prochain de 14h à 15h un webinaire sur le métier d'Opérateur Logistique.

Un opérateur logistique de chez la STEF Logistique (82) et un opérateur logistique de chez Express Catalan (66) se prêteront au jeu en dialoguant en visio conférence pendant une heure devant des demandeurs d'emploi connectés et transmettront leur passion en présentant leur métier et leur parcours professionnel.&nbsp;

&nbsp;

Vous êtes intéressés. Rapprochez vous de votre conseiller Pôle emploi
END:VEVENT
BEGIN:VEVENT
SUMMARY: Occitanie : La semaine du transport et de la logistique : L'Opérateur logistique
DTSTART: 20230607T120000
DTEND: 20230607T120000
DESCRIPTION: L'AFT Occitanie en partenariat avec Pôle emploi organisent le Mercredi 7 juin prochain de 14h à 15h un webinaire sur le métier d'Opérateur Logistique.

Un opérateur logistique de chez la STEF Logistique (82) et un opérateur logistique de chez Express Catalan (66) se prêteront au jeu en dialoguant en visio conférence pendant une heure devant des demandeurs d'emploi connectés et transmettront leur passion en présentant leur métier et leur parcours professionnel.&nbsp;

&nbsp;

Vous êtes intéressés. Rapprochez vous de votre conseiller Pôle emploi
END:VEVENT
END:VCALENDAR
