BEGIN:VCALENDAR
VERSION:2.0
METHOD:PUBLISH
X-WR-CALNAME;VALUE=TEXT:Agenda #5699
PRODID:-//Drupal iCal API//EN
BEGIN:VEVENT
SUMMARY: Matinale "Parlons recrutement" transport et logistique - Pôle Emploi
DTSTART: 20230605T063000
DTEND: 20230605T090000
DESCRIPTION: Dans le cadre de la semaine nationale des métiers du transport et de la logistique,&nbsp;Pôle Emploi&nbsp;propose une matinale "Parlons recrutement" dédiée à l'activité et aux enjeux de recrutement des entreprises de transport de marchandises et de voyageurs.&nbsp;
END:VEVENT
END:VCALENDAR
