BEGIN:VCALENDAR
VERSION:2.0
METHOD:PUBLISH
X-WR-CALNAME;VALUE=TEXT:Agenda #5277
PRODID:-//Drupal iCal API//EN
BEGIN:VEVENT
SUMMARY: Toulouse :  Focus métiers Transport Logistique
DTSTART: 20250311T130000
DTEND: 20250311T130000
DESCRIPTION: L'AFT Transport &amp; Logistique Occitanie vous propose en collaboration avec la Maison de l'Orientation de Toulouse, un Focus métiers Transport Logistique&nbsp;le Mardi 11 mars de 14h à 17h à la Maison de l'Orientation Toulouse Troubadour.

&nbsp;Alors n'attendez pas !&nbsp; Inscrivez-vous.&nbsp;

Rapprocher de votre conseiller France Travail
END:VEVENT
BEGIN:VEVENT
SUMMARY: Toulouse :  Focus métiers Transport Logistique
DTSTART: 20250311T130000
DTEND: 20250311T130000
DESCRIPTION: L'AFT Transport &amp; Logistique Occitanie vous propose en collaboration avec la Maison de l'Orientation de Toulouse, un Focus métiers Transport Logistique&nbsp;le Mardi 11 mars de 14h à 17h à la Maison de l'Orientation Toulouse Troubadour.

&nbsp;Alors n'attendez pas !&nbsp; Inscrivez-vous.&nbsp;

Rapprocher de votre conseiller France Travail
END:VEVENT
BEGIN:VEVENT
SUMMARY: Toulouse :  Focus métiers Transport Logistique
DTSTART: 20250311T130000
DTEND: 20250311T130000
DESCRIPTION: L'AFT Transport &amp; Logistique Occitanie vous propose en collaboration avec la Maison de l'Orientation de Toulouse, un Focus métiers Transport Logistique&nbsp;le Mardi 11 mars de 14h à 17h à la Maison de l'Orientation Toulouse Troubadour.

&nbsp;Alors n'attendez pas !&nbsp; Inscrivez-vous.&nbsp;

Rapprocher de votre conseiller France Travail
END:VEVENT
END:VCALENDAR
