BEGIN:VCALENDAR
VERSION:2.0
METHOD:PUBLISH
X-WR-CALNAME;VALUE=TEXT:Agenda #527
PRODID:-//Drupal iCal API//EN
BEGIN:VEVENT
SUMMARY: Nuit de l'orientation - CCI Eure
DTSTART: 20160123T130000
DTEND: 20160123T190000
DESCRIPTION: La 8ème édition de la Nuit de l'Orientation organisée par la CCI d'Evreux aura lieu le Samedi 23 Janvier 2016 de 14h à 20h à la CCI FORMATION EURE 461 rue H. Becquerel - Parc d'Activités de la Forêt 27000 EVREUX
END:VEVENT
BEGIN:VEVENT
SUMMARY: Nuit de l'orientation - CCI Eure
DTSTART: 20160123T130000
DTEND: 20160123T190000
DESCRIPTION: La 8ème édition de la Nuit de l'Orientation organisée par la CCI d'Evreux aura lieu le Samedi 23 Janvier 2016 de 14h à 20h à la CCI FORMATION EURE 461 rue H. Becquerel - Parc d'Activités de la Forêt 27000 EVREUX
END:VEVENT
END:VCALENDAR
