BEGIN:VCALENDAR
VERSION:2.0
METHOD:PUBLISH
X-WR-CALNAME;VALUE=TEXT:Agenda #5119
PRODID:-//Drupal iCal API//EN
BEGIN:VEVENT
SUMMARY: Information sur les métiers de la conduite routière au Centre Socio-Culturel de Bressuire
DTSTART: 20221205T130000
DTEND: 20221205T150000
DESCRIPTION: Venez nombreux assister à une présentation du secteur et plus particulièrement des métiers de la conduite !
END:VEVENT
END:VCALENDAR
