BEGIN:VCALENDAR
VERSION:2.0
METHOD:PUBLISH
X-WR-CALNAME;VALUE=TEXT:Agenda #5114
PRODID:-//Drupal iCal API//EN
BEGIN:VEVENT
SUMMARY: Semaine Transport &amp; Logistique Pôle Emploi Chennevières-sur-Marne
DTSTART: 20221206T083000
DTEND: 20221206T110000
DESCRIPTION: Dans le cadre de la semaine du transport et logistique, organisée par Pôle Emploi&nbsp;du 5 au 9 décembre,&nbsp;sur l'ensemble du territoire national, la Délégation Ile-de-France de l' AFT TRANSPORT &amp; LOGISTIQUE&nbsp;sera présente au Pôle Emploi de Chennevières-sur-Marne pour une présentation des métiers et&nbsp;formations de la logistique et du transport.
END:VEVENT
END:VCALENDAR
